Workbook

Sheet Instrukcja
A1: Raport sprzedaży – przykład realizacji (SprawnyArkusz)
A3: Problem klienta:
A4: Eksport z systemu sprzedaży ma niespójne nazwiska (wielkość liter, spacje) i kwoty zapisane jako tekst („1 234,50 zł”). Ręczne liczenie podsumowań zajmowało kilka godzin miesięcznie.
A6: Rozwiązanie:
A7: 1. Arkusz „Dane_surowe” – tu wklejasz eksport bez zmian (żółte kolumny).
A8: 2. Arkusz „Dane” – formuły same czyszczą nazwiska, zamieniają kwoty na liczby i wyliczają miesiąc.
A9: 3. Arkusz „Raport” – sprzedaż wg handlowca i miesiąca oraz wg regionu, liczona automatycznie (SUMIFS).
A10: 4. Arkusz „Test” – sprawdza, czy suma w raporcie zgadza się z sumą danych źródłowych.
A12: Jak używać co miesiąc:
A13: Wklej nowy eksport do „Dane_surowe” od wiersza 2 (maks. 500 wierszy). Raport i test przeliczą się same. Zmień miesiące w nagłówku raportu (komórki C4:E4), jeśli chcesz inny okres.
A15: Użyte funkcje: TRIM, PROPER, NUMBERVALUE, DATE, SUMIFS, IF – bez makr i bez dodatków, działa w Excel 2013+ i LibreOffice.

Sheet Dane_surowe
A1: Data | B1: Handlowiec | C1: Region | D1: Kwota
A2: 46239 | B2: Tomasz Lis | C2: Centrum | D2: 5 963,13 zł
A3: 46269 | B3: Marta Wójcik | C3: Północ | D3: 5 370,26 zł
A4: 46205 | B4: Anna Nowak | C4: Północ | D4: 4 072,72 zł
A5: 46206 | B5: Tomasz Lis | C5: Centrum | D5: 814,26 zł
A6: 46211 | B6: Anna Nowak | C6: Północ | D6: 5 320,80 zł
A7: 46211 | B7: anna nowak | C7: Północ | D7: 5 142,98 zł
A8: 46248 | B8: Piotr Zieliński | C8: Południe | D8: 5 003,97 zł
A9: 46252 | B9: Piotr Zieliński | C9: Południe | D9: 1 196,58 zł
A10: 46272 | B10: Marta Wójcik | C10: Północ | D10: 1 147,65 zł
A11: 46267 | B11: Piotr Zieliński | C11: Południe | D11: 4 618,81 zł
A12: 46259 | B12: Marta Wójcik | C12: Północ | D12: 4 350,74 zł
A13: 46244 | B13: piotr zieliński | C13: Południe | D13: 7 211,10 zł
... A61: 46289 | B61: piotr zieliński | C61: Południe | D61: 4 074,14 zł

Sheet Dane
A1: Data | B1: Handlowiec | C1: Region | D1: Kwota [zł] | E1: Miesiąc
A2: =IF(Dane_surowe!A2="","",Dane_surowe!A2) -> 46239 | B2: =IF(Dane_surowe!B2="","",PROPER(TRIM(Dane_surowe!B2))) -> Tomasz Lis | C2: =IF(Dane_surowe!C2="","",TRIM(Dane_surowe!C2)) -> Centrum | D2: =IF(Dane_surowe!D2="","",_xlfn.NUMBERVALUE(TRIM(SUBSTITUTE(Dane_surowe!D2,"zł","")),","," ")) -> 5963.13 | E2: =IF(A2="","",DATE(YEAR(A2),MONTH(A2),1)) -> 46235
A3: =IF(Dane_surowe!A3="","",Dane_surowe!A3) -> 46269 | B3: =IF(Dane_surowe!B3="","",PROPER(TRIM(Dane_surowe!B3))) -> Marta Wójcik | C3: =IF(Dane_surowe!C3="","",TRIM(Dane_surowe!C3)) -> Północ | D3: =IF(Dane_surowe!D3="","",_xlfn.NUMBERVALUE(TRIM(SUBSTITUTE(Dane_surowe!D3,"zł","")),","," ")) -> 5370.26 | E3: =IF(A3="","",DATE(YEAR(A3),MONTH(A3),1)) -> 46266
A4: =IF(Dane_surowe!A4="","",Dane_surowe!A4) -> 46205 | B4: =IF(Dane_surowe!B4="","",PROPER(TRIM(Dane_surowe!B4))) -> Anna Nowak | C4: =IF(Dane_surowe!C4="","",TRIM(Dane_surowe!C4)) -> Północ | D4: =IF(Dane_surowe!D4="","",_xlfn.NUMBERVALUE(TRIM(SUBSTITUTE(Dane_surowe!D4,"zł","")),","," ")) -> 4072.72 | E4: =IF(A4="","",DATE(YEAR(A4),MONTH(A4),1)) -> 46204
A5: =IF(Dane_surowe!A5="","",Dane_surowe!A5) -> 46206 | B5: =IF(Dane_surowe!B5="","",PROPER(TRIM(Dane_surowe!B5))) -> Tomasz Lis | C5: =IF(Dane_surowe!C5="","",TRIM(Dane_surowe!C5)) -> Centrum | D5: =IF(Dane_surowe!D5="","",_xlfn.NUMBERVALUE(TRIM(SUBSTITUTE(Dane_surowe!D5,"zł","")),","," ")) -> 814.26 | E5: =IF(A5="","",DATE(YEAR(A5),MONTH(A5),1)) -> 46204
A6: =IF(Dane_surowe!A6="","",Dane_surowe!A6) -> 46211 | B6: =IF(Dane_surowe!B6="","",PROPER(TRIM(Dane_surowe!B6))) -> Anna Nowak | C6: =IF(Dane_surowe!C6="","",TRIM(Dane_surowe!C6)) -> Północ | D6: =IF(Dane_surowe!D6="","",_xlfn.NUMBERVALUE(TRIM(SUBSTITUTE(Dane_surowe!D6,"zł","")),","," ")) -> 5320.8 | E6: =IF(A6="","",DATE(YEAR(A6),MONTH(A6),1)) -> 46204
A7: =IF(Dane_surowe!A7="","",Dane_surowe!A7) -> 46211 | B7: =IF(Dane_surowe!B7="","",PROPER(TRIM(Dane_surowe!B7))) -> Anna Nowak | C7: =IF(Dane_surowe!C7="","",TRIM(Dane_surowe!C7)) -> Północ | D7: =IF(Dane_surowe!D7="","",_xlfn.NUMBERVALUE(TRIM(SUBSTITUTE(Dane_surowe!D7,"zł","")),","," ")) -> 5142.98 | E7: =IF(A7="","",DATE(YEAR(A7),MONTH(A7),1)) -> 46204
A8: =IF(Dane_surowe!A8="","",Dane_surowe!A8) -> 46248 | B8: =IF(Dane_surowe!B8="","",PROPER(TRIM(Dane_surowe!B8))) -> Piotr Zieliński | C8: =IF(Dane_surowe!C8="","",TRIM(Dane_surowe!C8)) -> Południe | D8: =IF(Dane_surowe!D8="","",_xlfn.NUMBERVALUE(TRIM(SUBSTITUTE(Dane_surowe!D8,"zł","")),","," ")) -> 5003.97 | E8: =IF(A8="","",DATE(YEAR(A8),MONTH(A8),1)) -> 46235
A9: =IF(Dane_surowe!A9="","",Dane_surowe!A9) -> 46252 | B9: =IF(Dane_surowe!B9="","",PROPER(TRIM(Dane_surowe!B9))) -> Piotr Zieliński | C9: =IF(Dane_surowe!C9="","",TRIM(Dane_surowe!C9)) -> Południe | D9: =IF(Dane_surowe!D9="","",_xlfn.NUMBERVALUE(TRIM(SUBSTITUTE(Dane_surowe!D9,"zł","")),","," ")) -> 1196.58 | E9: =IF(A9="","",DATE(YEAR(A9),MONTH(A9),1)) -> 46235
A10: =IF(Dane_surowe!A10="","",Dane_surowe!A10) -> 46272 | B10: =IF(Dane_surowe!B10="","",PROPER(TRIM(Dane_surowe!B10))) -> Marta Wójcik | C10: =IF(Dane_surowe!C10="","",TRIM(Dane_surowe!C10)) -> Północ | D10: =IF(Dane_surowe!D10="","",_xlfn.NUMBERVALUE(TRIM(SUBSTITUTE(Dane_surowe!D10,"zł","")),","," ")) -> 1147.65 | E10: =IF(A10="","",DATE(YEAR(A10),MONTH(A10),1)) -> 46266
A11: =IF(Dane_surowe!A11="","",Dane_surowe!A11) -> 46267 | B11: =IF(Dane_surowe!B11="","",PROPER(TRIM(Dane_surowe!B11))) -> Piotr Zieliński | C11: =IF(Dane_surowe!C11="","",TRIM(Dane_surowe!C11)) -> Południe | D11: =IF(Dane_surowe!D11="","",_xlfn.NUMBERVALUE(TRIM(SUBSTITUTE(Dane_surowe!D11,"zł","")),","," ")) -> 4618.81 | E11: =IF(A11="","",DATE(YEAR(A11),MONTH(A11),1)) -> 46266
A12: =IF(Dane_surowe!A12="","",Dane_surowe!A12) -> 46259 | B12: =IF(Dane_surowe!B12="","",PROPER(TRIM(Dane_surowe!B12))) -> Marta Wójcik | C12: =IF(Dane_surowe!C12="","",TRIM(Dane_surowe!C12)) -> Północ | D12: =IF(Dane_surowe!D12="","",_xlfn.NUMBERVALUE(TRIM(SUBSTITUTE(Dane_surowe!D12,"zł","")),","," ")) -> 4350.74 | E12: =IF(A12="","",DATE(YEAR(A12),MONTH(A12),1)) -> 46235
A13: =IF(Dane_surowe!A13="","",Dane_surowe!A13) -> 46244 | B13: =IF(Dane_surowe!B13="","",PROPER(TRIM(Dane_surowe!B13))) -> Piotr Zieliński | C13: =IF(Dane_surowe!C13="","",TRIM(Dane_surowe!C13)) -> Południe | D13: =IF(Dane_surowe!D13="","",_xlfn.NUMBERVALUE(TRIM(SUBSTITUTE(Dane_surowe!D13,"zł","")),","," ")) -> 7211.1 | E13: =IF(A13="","",DATE(YEAR(A13),MONTH(A13),1)) -> 46235
... A501: =IF(Dane_surowe!A501="","",Dane_surowe!A501) | B501: =IF(Dane_surowe!B501="","",PROPER(TRIM(Dane_surowe!B501))) | C501: =IF(Dane_surowe!C501="","",TRIM(Dane_surowe!C501)) | D501: =IF(Dane_surowe!D501="","",_xlfn.NUMBERVALUE(TRIM(SUBSTITUTE(Dane_surowe!D501,"zł","")),","," ")) | E501: =IF(A501="","",DATE(YEAR(A501),MONTH(A501),1))

Sheet Raport
A1: Sprzedaż wg handlowca i miesiąca [zł]
A3: Miesiące raportu (zmień datę, aby zmienić okres):
B4: Handlowiec | C4: 46204 | D4: 46235 | E4: 46266 | F4: Razem
B5: Anna Nowak | C5: =SUMIFS(Dane!$D$2:$D$501,Dane!$B$2:$B$501,$B5,Dane!$E$2:$E$501,C$4) -> 20964.72 | D5: =SUMIFS(Dane!$D$2:$D$501,Dane!$B$2:$B$501,$B5,Dane!$E$2:$E$501,D$4) -> 12285.71 | E5: =SUMIFS(Dane!$D$2:$D$501,Dane!$B$2:$B$501,$B5,Dane!$E$2:$E$501,E$4) -> 35582.89 | F5: =SUM(C5:E5) -> 68833.32
B6: Piotr Zieliński | C6: =SUMIFS(Dane!$D$2:$D$501,Dane!$B$2:$B$501,$B6,Dane!$E$2:$E$501,C$4) -> 17373.31 | D6: =SUMIFS(Dane!$D$2:$D$501,Dane!$B$2:$B$501,$B6,Dane!$E$2:$E$501,D$4) -> 18362.13 | E6: =SUMIFS(Dane!$D$2:$D$501,Dane!$B$2:$B$501,$B6,Dane!$E$2:$E$501,E$4) -> 21027.59 | F6: =SUM(C6:E6) -> 56763.03
B7: Marta Wójcik | C7: =SUMIFS(Dane!$D$2:$D$501,Dane!$B$2:$B$501,$B7,Dane!$E$2:$E$501,C$4) -> 23611.27 | D7: =SUMIFS(Dane!$D$2:$D$501,Dane!$B$2:$B$501,$B7,Dane!$E$2:$E$501,D$4) -> 12963.31 | E7: =SUMIFS(Dane!$D$2:$D$501,Dane!$B$2:$B$501,$B7,Dane!$E$2:$E$501,E$4) -> 40234.47 | F7: =SUM(C7:E7) -> 76809.05
B8: Tomasz Lis | C8: =SUMIFS(Dane!$D$2:$D$501,Dane!$B$2:$B$501,$B8,Dane!$E$2:$E$501,C$4) -> 29840.96 | D8: =SUMIFS(Dane!$D$2:$D$501,Dane!$B$2:$B$501,$B8,Dane!$E$2:$E$501,D$4) -> 19870.57 | E8: =SUMIFS(Dane!$D$2:$D$501,Dane!$B$2:$B$501,$B8,Dane!$E$2:$E$501,E$4) -> 16798.49 | F8: =SUM(C8:E8) -> 66510.02
B9: Razem | C9: =SUM(C5:C8) -> 91790.26 | D9: =SUM(D5:D8) -> 63481.72 | E9: =SUM(E5:E8) -> 113643.44 | F9: =SUM(F5:F8) -> 268915.42
A11: Sprzedaż wg regionu [zł] – cały okres
C12: Kwota | D12: Udział
B13: Północ | C13: =SUMIFS(Dane!$D$2:$D$501,Dane!$C$2:$C$501,B13,Dane!$E$2:$E$501,">="&$C$4,Dane!$E$2:$E$501,"<="&$E$4) -> 145642.37 | D13: =IF($C$16=0,0,C13/$C$16) -> 0.54159174
B14: Południe | C14: =SUMIFS(Dane!$D$2:$D$501,Dane!$C$2:$C$501,B14,Dane!$E$2:$E$501,">="&$C$4,Dane!$E$2:$E$501,"<="&$E$4) -> 56763.03 | D14: =IF($C$16=0,0,C14/$C$16) -> 0.21108135
B15: Centrum | C15: =SUMIFS(Dane!$D$2:$D$501,Dane!$C$2:$C$501,B15,Dane!$E$2:$E$501,">="&$C$4,Dane!$E$2:$E$501,"<="&$E$4) -> 66510.02 | D15: =IF($C$16=0,0,C15/$C$16) -> 0.24732691
B16: Razem | C16: =SUM(C13:C15) -> 268915.42

Sheet Test
A1: Kontrola poprawności
A3: Liczba wierszy w danych źródłowych | B3: =COUNTA(Dane_surowe!A2:A501) -> 60
A4: Suma kwot w danych (po oczyszczeniu) | B4: =SUM(Dane!D2:D501) -> 268915.42
A5: Suma w raporcie (handlowcy) | B5: =Raport!F9 -> 268915.42
A6: Suma w raporcie (regiony) | B6: =Raport!C16 -> 268915.42
A7: Kwoty, których nie udało się odczytać | B7: =SUMPRODUCT((Dane_surowe!D2:D501<>"")*NOT(ISNUMBER(Dane!D2:D501))) -> 0
A8: Handlowcy spoza listy w raporcie | B8: =COUNTA(Dane_surowe!A2:A501)-SUMPRODUCT(COUNTIF(Raport!B5:B8,Dane!B2:B501)) -> 0
A10: WYNIK TESTU | B10: =IF(AND(ABS(B4-B5)<0.01,ABS(B4-B6)<0.01,B7=0,B8=0),"OK – raport zgodny z danymi","BŁĄD – sprawdź dane") -> OK – raport zgodny z danymi
